BEGIN:VCALENDAR
VERSION:2.0
PRODID:-//eventon.com NONSGML v1.0//EN
CALSCALE:GREGORIAN
METHOD:PUBLISH
BEGIN:VEVENT
UID:69eaef7724766
DTSTAMP:20260424T042007Z
DTSTART:20251102T143000Z
DTEND:20251102T170000Z
LOCATION:Mill Pond Garden 31401 Melloy Ct\,  Lewes\,  DE 19958
SUMMARY:Mill Pond Garden Opens to the Public on Sunday\,  November 2\,  2025 from 9:30 AM to Noon
DESCRIPTION:Mill Pond Garden opens to the public on Sunday\,  November 2\, 
  2025\,  from 9:30 AM to Noon for public enjoyment of the outstanding peak 
 of fall leaf color. One $20 ticket admits one car with all occupants: rain 
 or Shine. No Refunds. The Garden will be at the glory of[..]\nhttps://millp
 ondgarden.com/events/mill-pond-garden-opens-to-the-public-on-sunday-novembe
 r-2-2025-from-930-am-to-noon/
URL:https://millpondgarden.com/events/mill-pond-garden-opens-to-the-public-on-sunday-november-2-2025-from-930-am-to-noon/
END:VEVENT
END:VCALENDAR