BEGIN:VCALENDAR
VERSION:2.0
PRODID:-//eventon.com NONSGML v1.0//EN
CALSCALE:GREGORIAN
METHOD:PUBLISH
BEGIN:VEVENT
UID:69ead76a76045
DTSTAMP:20260424T023730Z
DTSTART:20250824T140000Z
DTEND:20250824T160000Z
LOCATION:Mill Pond Garden 31401 Melloy Ct\,  Lewes\,  DE 19958
SUMMARY:Open Garden Day Sunday\,  August 24th\,  2025
DESCRIPTION:Mill Pond Garden Opens to public on Sunday\,  August 24th from 
 10 AM to Noon to share the peak of the pollinator season and celebrate thri
 ving as a public garden with people enjoying and learning. A ticket\,  $25\
 ,  admits one car with all occupants. No Refunds. Rain or Shine. Tickets[..
 ]\nhttps://millpondgarden.com/events/open-garden-day-sunday-august-24th-202
 5/
URL:https://millpondgarden.com/events/open-garden-day-sunday-august-24th-2025/
END:VEVENT
END:VCALENDAR