BEGIN:VCALENDAR
VERSION:2.0
PRODID:-//eventon.com NONSGML v1.0//EN
CALSCALE:GREGORIAN
METHOD:PUBLISH
BEGIN:VEVENT
UID:69eabf0020fc8
DTSTAMP:20260424T005320Z
DTSTART:20250608T140000Z
DTEND:20250608T160000Z
LOCATION:Mill Pond Garden 31401 Melloy Ct\,  Lewes\,  DE 19958
SUMMARY:Mill Pond Garden Open Garden Day\,  Sunday\,  June 8th\,  2025 from 10 AM to 12 PM
DESCRIPTION:EVENT CANCELED  &nbsp; Mill Pond Garden Open Day for Hydrangea
  Heaven One ticket admits one car with all its occupants: rain or shine. No
  Refunds &#8211; Tickets may be given as a gift. Mill Pond Garden welcomes 
 visitors for Sunday\,  June 8\,  2025 from 10 AM to Noon to see[..]\nhttps:
 //millpondgarden.com/events/mill-pond-garden-open-garden-day-sunday-june-8t
 h-2025-from-10-am-to-12-pm/
URL:https://millpondgarden.com/events/mill-pond-garden-open-garden-day-sunday-june-8th-2025-from-10-am-to-12-pm/
END:VEVENT
END:VCALENDAR