BEGIN:VCALENDAR
VERSION:2.0
PRODID:-//eventon.com NONSGML v1.0//EN
CALSCALE:GREGORIAN
METHOD:PUBLISH
BEGIN:VEVENT
UID:69eaa36e1f561
DTSTAMP:20260423T225542Z
DTSTART:20250511T140000Z
DTEND:20250511T160000Z
LOCATION:Mill Pond Garden 31401 Melloy Ct\,  Lewes\,  DE 19958
SUMMARY:Mill Pond Garden Opens for Mother’s Day Peak of Spring
DESCRIPTION:Mill Pond Garden Opens for Mother’s Day Peak of Spring Tic
 kets are $25 each and admit all occupants in the vehicle. No Refunds &#8211
 ; Rain or Shine. Mill Pond Garden celebrates Mother’s Day on Sunday\,  Ma
 y 11\,  2025\,  from 10 AM to Noon\,  showing a peak of succession blooming
 . A $25 ticket admits[..]\nhttps://millpondgarden.com/events/mill-pond-gard
 en-opens-for-mothers-day-peak-of-spring/
URL:https://millpondgarden.com/events/mill-pond-garden-opens-for-mothers-day-peak-of-spring/
END:VEVENT
END:VCALENDAR