BEGIN:VCALENDAR
VERSION:2.0
PRODID:-//eventon.com NONSGML v1.0//EN
CALSCALE:GREGORIAN
METHOD:PUBLISH
BEGIN:VEVENT
UID:69ead778f34c0
DTSTAMP:20260424T023744Z
DTSTART:20250413T140000Z
DTEND:20250413T160000Z
LOCATION:Mill Pond Garden 31401 Melloy Ct\,  Lewes\,  DE 19958
SUMMARY:Garden Open Day\,  Sunday\,  April 13th\,  2025\,  10:00 AM to 12:00 PM
DESCRIPTION:Mill Pond Garden Celebrates early spring on April 13th One Tick
 et Admits one Vehicle with all of its Occuppants. No refunds &#8211; Rain o
 r Shine. Mill Pond Garden welcomes visitors to Garden Open Day on Sunday\, 
  April 13th\,  from 10 am to noon to celebrate mid-spring beauty in full gl
 ory.[..]\nhttps://millpondgarden.com/events/garden-open-day-sunday-april-13
 th-2025-1000-am-to-1200-pm/
URL:https://millpondgarden.com/events/garden-open-day-sunday-april-13th-2025-1000-am-to-1200-pm/
END:VEVENT
END:VCALENDAR