BEGIN:VCALENDAR
VERSION:2.0
PRODID:-//eventon.com NONSGML v1.0//EN
CALSCALE:GREGORIAN
METHOD:PUBLISH
BEGIN:VEVENT
UID:69ead7c9470e0
DTSTAMP:20260424T023905Z
DTSTART:20241110T143000Z
DTEND:20241110T190000Z
LOCATION:Mill Pond Garden 31401 Melloy Ct\,  Lewes\,  DE 19958
SUMMARY:Garden Open Day\,  Sunday\,  November 10th\,  2024\,  9:30 AM to 2:00 PM
DESCRIPTION:Mill Pond Garden Opens for Peak Fall Leaf Color and Fence Art 
 Show One $18 ticket admits one car with all occupants\,  either cash only a
 t the gate. No refunds. Rain or Shine. Tickets may be given as a gift. The 
 ‘Beautiful Delmarva’ themed Fence Art Show will feature donated works[.
 .]\nhttps://millpondgarden.com/events/garden-open-day-sunday-november-10th-
 2024-930-am-to-200-pm/
URL:https://millpondgarden.com/events/garden-open-day-sunday-november-10th-2024-930-am-to-200-pm/
END:VEVENT
END:VCALENDAR