BEGIN:VCALENDAR
VERSION:2.0
PRODID:-//eventon.com NONSGML v1.0//EN
CALSCALE:GREGORIAN
METHOD:PUBLISH
BEGIN:VEVENT
UID:69eaef7c6f4aa
DTSTAMP:20260424T042012Z
DTSTART:20241020T133000Z
DTEND:20241020T160000Z
LOCATION:Mill Pond Garden 31401 Melloy Ct\,  Lewes\,  DE 19958
SUMMARY:Garden Open Day\,  Sunday\,  October 20th\,  2024\,  9:30 AM to 12:00 PM
DESCRIPTION:Mill Pond Garden\,  the Cape’s mostly native\,  educational\,
   only public botanical garden\,  will open on Sunday\,  October 20\,  from
  9:30 AM to Noon to share the mid-autumn flowering plants especially featur
 ing: camellias\,  chrysanthemums\,  asters\,  salvias\,  last flush of rose
 s\,  and annuals\,  with scores of species of pollinators\,  along 2\, 000 
 feet[..]\nhttps://millpondgarden.com/events/garden-open-day-sunday-october-
 20th-2024-930-am-to-1200-pm/
URL:https://millpondgarden.com/events/garden-open-day-sunday-october-20th-2024-930-am-to-1200-pm/
END:VEVENT
END:VCALENDAR