BEGIN:VCALENDAR
VERSION:2.0
PRODID:-//eventon.com NONSGML v1.0//EN
CALSCALE:GREGORIAN
METHOD:PUBLISH
BEGIN:VEVENT
UID:69eb0b64ee073
DTSTAMP:20260424T061916Z
DTSTART:20240922T133000Z
DTEND:20240922T160000Z
LOCATION:Mill Pond Garden 31401 Melloy Ct\,  Lewes\,  DE 19958
SUMMARY:Mill Pond Garden Open Garden Day\,  Sunday\,  September 22nd\,  2024
DESCRIPTION:Mill Pond Garden Opens Sunday\,  September 22 from 9:30 AM to n
 oon rain or shine\,  closed only for emergency weather conditions. Tickets 
 are non-refundable and can be given as a gift. One ticket admits one vehicl
 e with up to 6 passengers. Mill Pond Garden is the only professional botani
 cal garden[..]\nhttps://millpondgarden.com/events/mill-pond-garden-open-gar
 den-day-sunday-september-22nd-2024/
URL:https://millpondgarden.com/events/mill-pond-garden-open-garden-day-sunday-september-22nd-2024/
END:VEVENT
END:VCALENDAR