BEGIN:VCALENDAR
VERSION:2.0
PRODID:-//eventon.com NONSGML v1.0//EN
CALSCALE:GREGORIAN
METHOD:PUBLISH
BEGIN:VEVENT
UID:69eb24f9af1e7
DTSTAMP:20260424T080825Z
DTSTART:20240811T133000Z
DTEND:20240811T160000Z
LOCATION:Mill Pond Garden 31401 Melloy Ct\,  Lewes\,  DE 19958
SUMMARY:Mill Pond Garden Open Day\,  Sunday\,  August 11th\,  2024\,  9:30 AM to 12:00 PM
DESCRIPTION:The local botanical garden\,  Mill Pond Garden\,  welcomes visi
 tors to celebrate the peak of pollinator abundance on Sunday\,  August 18\,
   2024 from 9:30 AM to Noon. One $18 Ticket admits one vehicle with up to 6
  passengers. No refunds | Rain or Shine | Ticket may be given as a[..]\nhtt
 ps://millpondgarden.com/events/mill-pond-garden-open-day-sunday-august-11th
 -2024-930-am-to-1200-pm/
URL:https://millpondgarden.com/events/mill-pond-garden-open-day-sunday-august-11th-2024-930-am-to-1200-pm/
END:VEVENT
END:VCALENDAR