BEGIN:VCALENDAR
VERSION:2.0
PRODID:-//eventon.com NONSGML v1.0//EN
CALSCALE:GREGORIAN
METHOD:PUBLISH
BEGIN:VEVENT
UID:69eb3a033b808
DTSTAMP:20260424T093811Z
DTSTART:20240623T140000Z
DTEND:20240623T160000Z
LOCATION:Mill Pond Garden 31401 Melloy Ct\,  Lewes\,  DE 19958
SUMMARY:Mill Pond Garden Open Day\,  Sunday\,  June 23rd\,  2024\,  10 AM to 12 PM
DESCRIPTION:Mill Pond Garden celebrates the flowers of the solstice with an
  Open Day on Sunday\,  June 23\,  2024 from 10 AM to noon. Ticket is $18 pe
 r car with up to six passengers. Tickets are not refundable and may be give
 n as a gift. This only local public botanical garden[..]\nhttps://millpondg
 arden.com/events/mill-pond-garden-open-day-sunday-june-23rd-2024-10-am-to-1
 2-pm/
URL:https://millpondgarden.com/events/mill-pond-garden-open-day-sunday-june-23rd-2024-10-am-to-12-pm/
END:VEVENT
END:VCALENDAR