BEGIN:VCALENDAR
VERSION:2.0
PRODID:-//eventon.com NONSGML v1.0//EN
CALSCALE:GREGORIAN
METHOD:PUBLISH
BEGIN:VEVENT
UID:69eb7b9d8866f
DTSTAMP:20260424T141805Z
DTSTART:20240512T140000Z
DTEND:20240512T160000Z
LOCATION:Mill Pond Garden 31401 Melloy Ct\,  Lewes\,  DE 19958
SUMMARY:Open Garden Day - Mother's Day\,  Sunday\,  May 12th\,  2024 - 10 AM to 12 PM
DESCRIPTION:Mill Pond Garden opens for Mother’s Day\,  Sunday\,  May 12 f
 rom 10 AM to Noon\,   to celebrate with the most luxuriant amount of bloom
  and magnificence of the entire garden year. In bloom will be scores of aza
 leas\,  scores of rhododendrons\,  wisterias\,  many kinds of clematis\,  m
 any kinds of iris\, [..]\nhttps://millpondgarden.com/events/open-garden-day
 -mothers-day-sunday-may-12th-2024-10-am-to-12-pm/
URL:https://millpondgarden.com/events/open-garden-day-mothers-day-sunday-may-12th-2024-10-am-to-12-pm/
END:VEVENT
END:VCALENDAR