BEGIN:VCALENDAR
VERSION:2.0
PRODID:-//eventon.com NONSGML v1.0//EN
CALSCALE:GREGORIAN
METHOD:PUBLISH
BEGIN:VEVENT
UID:69eb68d3255ef
DTSTAMP:20260424T125755Z
DTSTART:20240428T140000Z
DTEND:20240428T160000Z
LOCATION:Mill Pond Garden 31401 Melloy Ct\,  Lewes\,  DE 19958
SUMMARY:Open Garden Day\,  Sunday\,  April 28th\,  2024\,  10 AM to 12 PM - Mid Spring Flowers
DESCRIPTION:Mill Pond Garden opens for new mid-spring flowers on Sunday\,  
 April 28 from 10 AM to Noon to celebrate the changing seasons changing flow
 ers\,  rain or shine.  Tickets are available on the website millpondgarden
 .com or cash only at the gate.  One $18 ticket admits one car with up to 
 six passengers.[..]\nhttps://millpondgarden.com/events/open-garden-day-sund
 ay-april-28th-2024-10-am-to-12-pm-mid-spring-flowers/
URL:https://millpondgarden.com/events/open-garden-day-sunday-april-28th-2024-10-am-to-12-pm-mid-spring-flowers/
END:VEVENT
END:VCALENDAR