BEGIN:VCALENDAR
VERSION:2.0
PRODID:-//eventon.com NONSGML v1.0//EN
CALSCALE:GREGORIAN
METHOD:PUBLISH
BEGIN:VEVENT
UID:69eb7db1d2bd7
DTSTAMP:20260424T142657Z
DTSTART:20240408T183000Z
DTEND:20240408T193000Z
LOCATION:Mill Pond Garden 31401 Melloy Ct\,  Lewes\,  DE 19958
SUMMARY:See Eclipse at Mill Pond Botanic Garden\,  Monday\,  April 8th\,  2:30 PM to 3:30 PM
DESCRIPTION:See Eclipse at Mill Pond Botanic Garden open for Moon’s 85% e
 clipse of the Sun from 2:30 PM to 3:30 PM\,  peak dark at 3 PM. Admission i
 s $18/car with up to six visitors\,  and enjoy mid-spring flower in eerie l
 ight\,  camera welcome\,  at 31401 Melloy Court\,  Lewes\,  DE 19958.[..]\n
 https://millpondgarden.com/events/see-eclipse-at-mill-pond-botanic-garden-m
 onday-april-8th-230-pm-to-330-pm/
URL:https://millpondgarden.com/events/see-eclipse-at-mill-pond-botanic-garden-monday-april-8th-230-pm-to-330-pm/
END:VEVENT
END:VCALENDAR