BEGIN:VCALENDAR
VERSION:2.0
PRODID:-//eventon.com NONSGML v1.0//EN
CALSCALE:GREGORIAN
METHOD:PUBLISH
BEGIN:VEVENT
UID:69eb972a38965
DTSTAMP:20260424T161538Z
DTSTART:20240414T140000Z
DTEND:20240414T160000Z
LOCATION:Mill Pond Garden 31401 Melloy Ct\,  Lewes\,  DE 19958
SUMMARY:Garden Open Day\,  Sunday\,  10 AM to 12 PM - Mill Pond Garden’s Peak of Mid-Spring Flowers
DESCRIPTION:One $18 ticket admits one car with up to six occupant visitors 
 Rain or Shine\,  No refunds. Ticket is Giftable. Featuring in bloom: Wister
 ia\,  Red Bud\,  Dogwood\,  Rhododendrons\,  azaleas\,  Camellias\,  Helleb
 ores\,  flowering bulbs\,  spring ephemerals like Virginia Blue Bells and T
 rilliums\,  Pulmonaria\,  Crab Apples\,  Hawthorne\,  and more in two thous
 and[..]\nhttps://millpondgarden.com/events/garden-open-day-sunday-10-am-to-
 12-pm-mill-pond-gardens-peak-of-mid-spring-flowers/
URL:https://millpondgarden.com/events/garden-open-day-sunday-10-am-to-12-pm-mill-pond-gardens-peak-of-mid-spring-flowers/
END:VEVENT
END:VCALENDAR