BEGIN:VCALENDAR
VERSION:2.0
PRODID:-//eventon.com NONSGML v1.0//EN
CALSCALE:GREGORIAN
METHOD:PUBLISH
BEGIN:VEVENT
UID:69ebae78874d4
DTSTAMP:20260424T175504Z
DTSTART:20240324T140000Z
DTEND:20240324T160000Z
LOCATION:Mill Pond Garden 31401 Melloy Ct\,  Lewes\,  DE 19958
SUMMARY:Mill Pond Garden Open Day from 10 AM to 12 PM\,  Friday\,  March 24th\,  2024
DESCRIPTION:Mill Pond Botanical Garden celebrates the beauties of early spr
 ing with a Garden Open Day on both Â Friday\,  March 22nd\,  and Sunday\,  
 March 24\,  2024\,  from 10 AM to 12 PM\,  with a horticulturist on duty. Â
  A ticket admits on one day only with the choice of either.Â  Note that[..]
 \nhttps://millpondgarden.com/events/mill-pond-garden-open-day-from-10-am-to
 -12-pm-friday-march-24th-2024-copy/
URL:https://millpondgarden.com/events/mill-pond-garden-open-day-from-10-am-to-12-pm-friday-march-24th-2024-copy/
END:VEVENT
END:VCALENDAR