BEGIN:VCALENDAR
VERSION:2.0
PRODID:-//eventon.com NONSGML v1.0//EN
CALSCALE:GREGORIAN
METHOD:PUBLISH
BEGIN:VEVENT
UID:69ebe367e9f1f
DTSTAMP:20260424T214055Z
DTSTART:20231105T150000Z
DTEND:20231105T170000Z
LOCATION:Mill Pond Garden 31401 Melloy Ct\,  Lewes\,  DE 19958
SUMMARY:Open Garden Day\,  Sunday\,  November 5th\,  from 10 AM to 12 PM - Peak Fall Color
DESCRIPTION:Open Garden Day\,  Sunday\,  November 5th\,  from 10 AM to 12 P
 M &#8211; Peak Fall Color Mill Pond Botanic Garden welcomes visitors to enj
 oy the peak of fall color on Sunday\,  November 5\,  2023\,  from 9:30 AM t
 o Noon at 31401 Melloy Court\,  Lewes\,  DE 19958. Featuring gorgeous fall 
 foliage[..]\nhttps://millpondgarden.com/events/open-garden-day-sunday-novem
 ber-5th-from-10-am-to-12-pm-peak-fall-color/
URL:https://millpondgarden.com/events/open-garden-day-sunday-november-5th-from-10-am-to-12-pm-peak-fall-color/
END:VEVENT
END:VCALENDAR