BEGIN:VCALENDAR
VERSION:2.0
PRODID:-//eventon.com NONSGML v1.0//EN
CALSCALE:GREGORIAN
METHOD:PUBLISH
BEGIN:VEVENT
UID:69ec2aae0cfef
DTSTAMP:20260425T024502Z
DTSTART:20231015T140000Z
DTEND:20231015T163000Z
LOCATION:Mill Pond Garden 31401 Melloy Ct\,  Lewes\,  DE 19958
SUMMARY:Open Garden Day\,  Sunday\,  October 15th\,  2023\,  10 AM to 12:30 PM\,  October Opulence
DESCRIPTION:Open Garden Day\,  Sunday\,  October 15th\,  2023\,  10 AM to 1
 2:30 PM\,  October Opulence One ticket admits one vehicle with up to six pa
 ssengers. No refunds. Rain or Shine. Tickets may be given as a gift. The ga
 rden will be featuring plants of early autumn including native conclinium (
 Mist flower)\, [..]\nhttps://millpondgarden.com/events/open-garden-day-sund
 ay-october-15th-2023-10-am-to-1230-pm-october-opulence/
URL:https://millpondgarden.com/events/open-garden-day-sunday-october-15th-2023-10-am-to-1230-pm-october-opulence/
END:VEVENT
END:VCALENDAR