BEGIN:VCALENDAR
VERSION:2.0
PRODID:-//eventon.com NONSGML v1.0//EN
CALSCALE:GREGORIAN
METHOD:PUBLISH
BEGIN:VEVENT
UID:69ec2aae1045b
DTSTAMP:20260425T024502Z
DTSTART:20230820T140000Z
DTEND:20230820T163000Z
LOCATION:Mill Pond Garden 31401 Melloy Ct\,  Lewes\,  DE 19958
SUMMARY:Open Garden Day\,  Sunday\,  August 20th\,  2023 - August Wows! 10 AM to 12:30 PM
DESCRIPTION:Open Garden Day\,  Sunday\,  August 20th\,  2023 &#8211; August
  Wows! Open Garden Day 10 AM to 12:30 PM at Mill Pond Botanic Garden\,  In 
 flower: Bromeliades\,  Hibiscus\,  Zinnias\,  Crape myrtles\,  tall phlox\,
   roses\,  Salvia\,  Sunflowers\,  water lilies\,  Butterflies\,  Dragonfli
 es\,  Hummingbirds\,  birds\,  more\,  2\, 000’ of garden pathways\,  wil
 dlife and vistas of[..]\nhttps://millpondgarden.com/events/open-garden-day-
 sunday-august-20th-2023-august-wows-10-am-to-1230-pm/
URL:https://millpondgarden.com/events/open-garden-day-sunday-august-20th-2023-august-wows-10-am-to-1230-pm/
END:VEVENT
END:VCALENDAR