BEGIN:VCALENDAR
VERSION:2.0
PRODID:-//eventon.com NONSGML v1.0//EN
CALSCALE:GREGORIAN
METHOD:PUBLISH
BEGIN:VEVENT
UID:69ec2a5a78f2f
DTSTAMP:20260425T024338Z
DTSTART:20230716T140000Z
DTEND:20230716T163000Z
LOCATION:Mill Pond Garden 31401 Melloy Ct\,  Lewes\,  DE 19958
SUMMARY:Mill Pond Garden Open Day\,  Sunday\,  July 16th\,  2023 from 10:00 AM to 12:30 PM
DESCRIPTION:Mill Pond Garden celebrates treasures of the July garden with O
 pen Garden Day on Sunday\,  July 16\,  2023 from 10 AM to 12:30 PM\,  rain 
 or shine\,  closing only for high wind or lightning. Featuring flowering pl
 ants including crape myrtles\,  hibiscus\,  sunflowers\,  tall phlox\,  wat
 er lilies\,  sage\,  lilies\,  bananas\,  epiphytes\, [..]\nhttps://millpon
 dgarden.com/events/mill-pond-garden-open-day-sunday-july-16th-2023-from-100
 0-am-to-1230-pm/
URL:https://millpondgarden.com/events/mill-pond-garden-open-day-sunday-july-16th-2023-from-1000-am-to-1230-pm/
END:VEVENT
END:VCALENDAR