BEGIN:VCALENDAR
VERSION:2.0
PRODID:-//eventon.com NONSGML v1.0//EN
CALSCALE:GREGORIAN
METHOD:PUBLISH
BEGIN:VEVENT
UID:69ec3ed3c3982
DTSTAMP:20260425T041059Z
DTSTART:20230625T140000Z
DTEND:20230625T163000Z
LOCATION:Mill Pond Garden 31401 Melloy Ct\,  Lewes\,  DE 19958
SUMMARY:Garden Open Day Sunday\,  June 25\,  2023 from 10 AM to 12:30 PM – Solstice Spectacle!
DESCRIPTION:Garden Open Day Sunday\,  June 25\,  2023 from 10 AM to 12:30 P
 M – Solstice Spectacle! In flower: hydrangeas\,  crape myrtles\,  phlox\,
   monarda\,  daylilies\,  roses\,  lilies\,  water lilies\,  sunflowers\,  
 and more\,  in 2\, 000’ of landscaped pathways\,  with wildlife and vista
 s of Red Mill Pond. Tickets: $15 admits one car with[..]\nhttps://millpondg
 arden.com/events/garden-open-day-sunday-june-25-2023-from-10-am-to-1230-pm-
 solstice-spectacle/
URL:https://millpondgarden.com/events/garden-open-day-sunday-june-25-2023-from-10-am-to-1230-pm-solstice-spectacle/
END:VEVENT
END:VCALENDAR