BEGIN:VCALENDAR
VERSION:2.0
PRODID:-//eventon.com NONSGML v1.0//EN
CALSCALE:GREGORIAN
METHOD:PUBLISH
BEGIN:VEVENT
UID:69ec9ea77d625
DTSTAMP:20260425T105951Z
DTSTART:20230402T140000Z
DTEND:20230402T163000Z
LOCATION:Mill Pond Garden 31401 Melloy Ct\,  Lewes\,  DE 19958
SUMMARY:Open Day Spring’s Spectacular Start\,  Sunday\,  April 2nd\,  2023
DESCRIPTION:Open Day Spring’s Spectacular Start\,  Sunday\,  April 2nd\, 
  2023 From 10 AM to 12:30 PM Rain or Shine\,  good weather is predicted. En
 joy in bloom Pieris\,  Edgeworthia\,  Spirea\,  daffodils\,  early tulips\,
   Redbud\,  Bloodroot\,  Anemone blanda\,  Hyacinths\,  Grape Hyacinths\,  
 pansies\,  periwinkle\,  comfrey\,  Pachysandra\,  Leucojum\,  Hellebores\,
   Peacock Kale\,  Pulmonaria \,  Azaleas\,  Rhododendrons\, [..]\nhttps://m
 illpondgarden.com/events/open-day-springs-spectacular-start-sunday-april-2n
 d-2023/
URL:https://millpondgarden.com/events/open-day-springs-spectacular-start-sunday-april-2nd-2023/
END:VEVENT
END:VCALENDAR