BEGIN:VCALENDAR
VERSION:2.0
PRODID:-//eventon.com NONSGML v1.0//EN
CALSCALE:GREGORIAN
METHOD:PUBLISH
BEGIN:VEVENT
UID:69ecb2dd5ef92
DTSTAMP:20260425T122605Z
DTSTART:20221107T150000Z
DTEND:20221107T170000Z
LOCATION:Mill Pond Garden 31401 Melloy Ct\,  Lewes\,  DE 19958
SUMMARY:Garden Open Day\,  Monday\,  November 7\,  2022 from 10 AM to 12 PM
DESCRIPTION:Enjoy Outstanding Fall Color for Cape at Mill Pond Gardens O
 ne ticket admits one vehicle with up to 6 passengers. Tickets are non-refun
 dable and can be given as a gift. The secret to good fall color display  i
 s not just lots of color\,  but colors that set each other off to great adv
 antage. Select[..]\nhttps://millpondgarden.com/events/garden-open-day-mond
 ay-november-7-2022-from-10-am-to-12-pm/
URL:https://millpondgarden.com/events/garden-open-day-monday-november-7-2022-from-10-am-to-12-pm/
END:VEVENT
END:VCALENDAR