BEGIN:VCALENDAR
VERSION:2.0
PRODID:-//eventon.com NONSGML v1.0//EN
CALSCALE:GREGORIAN
METHOD:PUBLISH
BEGIN:VEVENT
UID:69ecc7489f946
DTSTAMP:20260425T135312Z
DTSTART:20221113T150000Z
DTEND:20221113T180000Z
LOCATION:Mill Pond Garden 31401 Melloy Ct\,  Lewes\,  DE 19958
SUMMARY:Garden Open Day\,  Sunday November 13\,  2022 from 10 AM to 1 PM
DESCRIPTION:Enjoy Outstanding Fall Color for Cape at Mill Pond Gardens One 
 ticket admits one vehicle with up to 6 passengers. Tickets are non-refundab
 le and can be given as a gift The secret to good fall color display  is no
 t just lots of color\,  but colors that set each other off[..]\nhttps://mil
 lpondgarden.com/events/garden-open-day-sunday-november-13-2022-from-10-am-t
 o-1-pm/
URL:https://millpondgarden.com/events/garden-open-day-sunday-november-13-2022-from-10-am-to-1-pm/
END:VEVENT
END:VCALENDAR