BEGIN:VCALENDAR
VERSION:2.0
PRODID:-//eventon.com NONSGML v1.0//EN
CALSCALE:GREGORIAN
METHOD:PUBLISH
BEGIN:VEVENT
UID:69ece1840a179
DTSTAMP:20260425T154508Z
DTSTART:20220911T140000Z
DTEND:20220911T170000Z
LOCATION:Mill Pond Garden 31401 Melloy Ct\,  Lewes\,  DE 19958
SUMMARY:Garden Open Day\,  September 11th\,  2022\,  10 AM to 1 PM\,  Good Bye to Summer
DESCRIPTION:One Ticket admits one car with up to six passengers.  No refun
 ds.  Rain or Shine.  Current weather forecast is good for that day. Featu
 ring: Diamond Grass\,  Mature Annuals\,  Pollinator plants\,  Golden Rod\, 
  Hibiscus\,  Big leaf tropical plants like Bananas\,  Caladium\,  Colocasia
 \,  Taro\,  Salvia\,  Conclinium\,  Water Lilies\,  Frogs\,  Dragonflies\, 
  Hummingbirds\,  Berries\, [..]\nhttps://millpondgarden.com/events/garden-o
 pen-day-september-11th-2022-10-am-to-1-pm-good-bye-to-summer/
URL:https://millpondgarden.com/events/garden-open-day-september-11th-2022-10-am-to-1-pm-good-bye-to-summer/
END:VEVENT
END:VCALENDAR