BEGIN:VCALENDAR
VERSION:2.0
PRODID:-//eventon.com NONSGML v1.0//EN
CALSCALE:GREGORIAN
METHOD:PUBLISH
BEGIN:VEVENT
UID:69ecf8070d240
DTSTAMP:20260425T172111Z
DTSTART:20220821T140000Z
DTEND:20220821T170000Z
LOCATION:Mill Pond Garden 31401 Melloy Ct\,  Lewes\,  DE 19958
SUMMARY:Garden Open Day Sunday August 21\,  2022 from 10 AM to 1 PM
DESCRIPTION:Featuring lavish Mid-August flowers and pollinators with abunda
 nt butterflies\,  hummingbirds. Crape Myrtles at peak One Ticket $15 admits
  one car and up to six passengers.  No refunds.  Ticket can be given to o
 ther. No paper ticket required. Give ticket purchaser’s name at check in 
 on arrival. Rain or shine. Good[..]\nhttps://millpondgarden.com/events/gard
 en-open-day-sunday-august-21-2022-from-10-am-to-1-pm/
URL:https://millpondgarden.com/events/garden-open-day-sunday-august-21-2022-from-10-am-to-1-pm/
END:VEVENT
END:VCALENDAR