BEGIN:VCALENDAR
VERSION:2.0
PRODID:-//eventon.com NONSGML v1.0//EN
CALSCALE:GREGORIAN
METHOD:PUBLISH
BEGIN:VEVENT
UID:69ed0d7418925
DTSTAMP:20260425T185236Z
DTSTART:20220731T140000Z
DTEND:20220731T170000Z
LOCATION:Mill Pond Garden 31401 Melloy Ct\,  Lewes\,  DE 19958
SUMMARY:Garden Open Day\,  Sunday\,  July 31st\,  2022
DESCRIPTION:From 10 AM to 1 PM.  Garden closes at 1 PM The Garden will be 
 featuring peak of glorious huge flowered Hibiscus\,  late Lilies\,  Roses\,
   Hydrangeas\,  Crape myrtles\,  Phlox\,  Sage\,  Daylilies\,  Waterlilies\
 ,  epiphytes\,  pollinators\,  butterflies\,  hummingbirds\,  and annuals. 
  You may see basking turtles\,  frogs\,  beautiful Koi in the fish pond\, 
 [..]\nhttps://millpondgarden.com/events/garden-open-day-sunday-july-31st-20
 22/
URL:https://millpondgarden.com/events/garden-open-day-sunday-july-31st-2022/
END:VEVENT
END:VCALENDAR