BEGIN:VCALENDAR
VERSION:2.0
PRODID:-//eventon.com NONSGML v1.0//EN
CALSCALE:GREGORIAN
METHOD:PUBLISH
BEGIN:VEVENT
UID:69ed20a556c90
DTSTAMP:20260425T201429Z
DTSTART:20220710T140000Z
DTEND:20220710T170000Z
LOCATION:Mill Pond Garden 31401 Melloy Ct\,  Lewes\,  DE 19958
SUMMARY:Open Garden Day Sunday\,  July 10\,  2022 from 10 AM to 1 PM
DESCRIPTION:Crape myrtles\,  perennials\,  lilies\,  waterlilies\,  and hib
 iscus\,  an abundant display of flowers\,  joining the hydrangeas and annua
 ls that have been in bloom since June. No horticulturist on duty this time.
  One ticket admits one auto and up to six passengers. No refunds. Rain or s
 hine.\nhttps://millpondgarden.com/events/open-garden-day-sunday-july-10-202
 2-from-10-am-to-1-pm/
URL:https://millpondgarden.com/events/open-garden-day-sunday-july-10-2022-from-10-am-to-1-pm/
END:VEVENT
END:VCALENDAR